BEGIN:VCALENDAR
VERSION:2.0
PRODID:SchoolNow
CALSCALE:GREGORIAN
BEGIN:VEVENT
UID:2b32df4e-3943-11f1-8e5c-0a58a9feac02
DTSTAMP:20260421T171007Z
SUMMARY:2nd/3rd FT to Blodgett Forest Station
URL;VALUE=URI:https://www.latrobesd.org/calendar/8997111/2nd-3rd-ft-to-blod
 gett-forest-station
DTSTART;VALUE=DATE:20260519
DTEND;VALUE=DATE:20260520
END:VEVENT
END:VCALENDAR
