BEGIN:VCALENDAR
VERSION:2.0
PRODID:SchoolNow
CALSCALE:GREGORIAN
BEGIN:VEVENT
UID:2b32e070-3943-11f1-a490-0a58a9feac02
DTSTAMP:20260421T171007Z
SUMMARY:Pollock Pines Spelling Bee
URL;VALUE=URI:https://www.latrobesd.org/calendar/8997112/pollock-pines-spel
 ling-bee
DTSTART:20260508T160000Z
DTEND:20260508T183000Z
END:VEVENT
END:VCALENDAR
