BEGIN:VCALENDAR
VERSION:2.0
PRODID:SchoolNow
CALSCALE:GREGORIAN
BEGIN:VEVENT
UID:2b32e1a6-3943-11f1-90e3-0a58a9feac02
DTSTAMP:20260421T110508Z
SUMMARY:K-8 Earth Dome Assemblies @ MH
URL;VALUE=URI:https://www.latrobesd.org/calendar/8997113/k-8-earth-dome-ass
 emblies-mh
DTSTART:20260424T160000Z
DTEND:20260424T183000Z
END:VEVENT
END:VCALENDAR
