BEGIN:VCALENDAR
VERSION:2.0
PRODID:SchoolNow
CALSCALE:GREGORIAN
BEGIN:VEVENT
UID:2b32e2be-3943-11f1-b3c2-0a58a9feac02
DTSTAMP:20260421T110508Z
SUMMARY:LES Garden Day
URL;VALUE=URI:https://www.latrobesd.org/calendar/8997114/les-garden-day
DTSTART;VALUE=DATE:20260409
DTEND;VALUE=DATE:20260410
END:VEVENT
END:VCALENDAR
