BEGIN:VCALENDAR
VERSION:2.0
PRODID:SchoolNow
CALSCALE:GREGORIAN
BEGIN:VEVENT
UID:2b5a202c-3943-11f1-aa7c-0a58a9feac02
DTSTAMP:20260421T110508Z
SUMMARY:Track practice
URL;VALUE=URI:https://www.latrobesd.org/calendar/8997115/track-practice
DTSTART:20260416T210500Z
DTEND:20260416T221500Z
END:VEVENT
END:VCALENDAR
