BEGIN:VCALENDAR
VERSION:2.0
PRODID:SchoolNow
CALSCALE:GREGORIAN
BEGIN:VEVENT
UID:2b5a25cc-3943-11f1-a000-0a58a9feac02
DTSTAMP:20260421T110508Z
SUMMARY:Track practice
URL;VALUE=URI:https://www.latrobesd.org/calendar/8997118/track-practice
DTSTART:20260430T210500Z
DTEND:20260430T221500Z
END:VEVENT
END:VCALENDAR
