BEGIN:VCALENDAR
VERSION:2.0
PRODID:SchoolNow
CALSCALE:GREGORIAN
BEGIN:VEVENT
UID:2b5a26c6-3943-11f1-8d6b-0a58a9feac02
DTSTAMP:20260421T171008Z
SUMMARY:Track practice
URL;VALUE=URI:https://www.latrobesd.org/calendar/8997119/track-practice
DTSTART:20260507T210500Z
DTEND:20260507T221500Z
END:VEVENT
END:VCALENDAR
